BEGIN:VCALENDAR
VERSION:2.0
PRODID:-//Sociedad Ecuatoriana de Reumatología - ECPv6.10.1.1//NONSGML v1.0//EN
CALSCALE:GREGORIAN
METHOD:PUBLISH
X-WR-CALNAME:Sociedad Ecuatoriana de Reumatología
X-ORIGINAL-URL:https://www.serecuador.com.ec
X-WR-CALDESC:Eventos para Sociedad Ecuatoriana de Reumatología
REFRESH-INTERVAL;VALUE=DURATION:PT1H
X-Robots-Tag:noindex
X-PUBLISHED-TTL:PT1H
BEGIN:VTIMEZONE
TZID:America/Guayaquil
BEGIN:STANDARD
TZOFFSETFROM:-0500
TZOFFSETTO:-0500
TZNAME:-05
DTSTART:20230101T000000
END:STANDARD
END:VTIMEZONE
BEGIN:VEVENT
DTSTART;VALUE=DATE:20230331
DTEND;VALUE=DATE:20230402
DTSTAMP:20260419T142007
CREATED:20230320T050714Z
LAST-MODIFIED:20230320T063051Z
UID:9503-1680220800-1680393599@www.serecuador.com.ec
SUMMARY:Jornadas de Actualización en Reumatología 2023
DESCRIPTION:La Sociedad Ecuatoriana de Reumatología\, tiene el agrado de invitarlos a participar de las Jornadas de Actualización en Reumatología\, primer evento presencial de año\, que se llevará a cabo el viernes 31 de marzo y sábado 1 de abril\, en el Hotel Oro Verde de la ciudad de Manta. Tendremos la presencia de explositores nacionales e internacionales que compartirán lo último en conocimiento sobre Reumatología. \n  \nDirigido a:\n\nReumatólogos\nMédicos internistas\nMédicos Generales.\n\n  \nExpositores:\n🇦🇷 Dr. Enrique Soriano | Argentina\n🇨🇴 Dr. Juan José Jaller | Colombia\n🇵🇪 Dr. Luis Vidal | Perú\n🇦🇷 Dr. Gabriel Aguilar | Argentina\n▶ Dr. Fernando Sommerfleck | Argentina\n▶ Dra. Claudia Vera | Ecuador\n▶ Dr. Mario Moreno | Ecuador\n▶ Dr. Carlos Ríos | Ecuador \n\nRegístrese en:\nhttps://bit.ly/RegistroJornadasReumatologia2023 \n\nContáctenos para más información:\nNúmero celular:\n0990137446 – 0999246133 \n  \nWhatsapp:\nhttps://bit.ly/Escríbenos-Medicmarketing
URL:https://www.serecuador.com.ec/evento/jornadas-actualizacion-reumatologia-2023/
LOCATION:Hotel Oro Verde Manta\, Malecon de Manta y calle 23\, Manta 130213\, Manta\, Manabí\, Ecuador
ATTACH;FMTTYPE=image/jpeg:https://www.serecuador.com.ec/wp-content/uploads/2023/03/thumb-jornadas-marzo.jpg
ORGANIZER;CN="Sociedad Ecuatoriana de Rematolog%C3%ADa":MAILTO:ser@serecuador.com.ec
END:VEVENT
END:VCALENDAR