BEGIN:VCALENDAR
VERSION:2.0
PRODID:-//Sociedad Ecuatoriana de Reumatología - ECPv6.10.1.1//NONSGML v1.0//EN
CALSCALE:GREGORIAN
METHOD:PUBLISH
X-WR-CALNAME:Sociedad Ecuatoriana de Reumatología
X-ORIGINAL-URL:https://www.serecuador.com.ec
X-WR-CALDESC:Eventos para Sociedad Ecuatoriana de Reumatología
REFRESH-INTERVAL;VALUE=DURATION:PT1H
X-Robots-Tag:noindex
X-PUBLISHED-TTL:PT1H
BEGIN:VTIMEZONE
TZID:America/Guayaquil
BEGIN:STANDARD
TZOFFSETFROM:-0500
TZOFFSETTO:-0500
TZNAME:-05
DTSTART:20250101T000000
END:STANDARD
TZID:UTC
BEGIN:STANDARD
TZOFFSETFROM:+0000
TZOFFSETTO:+0000
TZNAME:UTC
DTSTART:20230101T000000
END:STANDARD
END:VTIMEZONE
BEGIN:VEVENT
DTSTART;VALUE=DATE:20250523
DTEND;VALUE=DATE:20250525
DTSTAMP:20260419T132322
CREATED:20250220T214022Z
LAST-MODIFIED:20250517T065407Z
UID:12605-1747958400-1748131199@www.serecuador.com.ec
SUMMARY:Curso Emergencias en Reumatología - Guayaquil 2025
DESCRIPTION:La Sociedad Ecuatoriana de Reumatología se complace en invitarlos al evento Emergencias en Reumatología 2025 en la ciudad de Guayaquil\, Ecuador. \n\nFecha: Viernes 23 y sábado 24 de mayo del 2024\nModalidad: Presencial\nLugar: Hotel Sheraton Guayaquil\, Salón Mercurio\n\n\nPrograma científico:\n\n\n\n\nDESCARGAR PROGRAMA (.PDF)\n\n\n\n\n\nDirigido a:\n\nMédicos especialistas\nMédicos generales\nEstudiantes\n\n\nExpositores:\n\nDra. Alejandra Babini (ARG🇦🇷)\nDr. Carlos Pérez (COL🇨🇴)\nDra. Ivonne Quezada (EC🇪🇨)\nDra. Ericka Palacios (EC🇪🇨)\nDr. Virgilio Chacón (EC🇪🇨)\nDr. Goethe Sacoto (EC🇪🇨)\nDr. Mario Moreno (EC🇪🇨)\nDr. Richard Loor (EC🇪🇨)\nDr. Carlos Ríos (EC🇪🇨)\nDra. Johanna Román (EC🇪🇨)\n\n\nInscripciones para miembros de la Sociedad:\nEste curso no tiene costo para miembros de la Sociedad Ecuatoriana de Reumatología (USD $0).\n  \n\nInscripciones generales (no miembros)\n\nValor del 4 al 23 de mayo: USD $150\n\n\nSi usted no es miembro de la Sociedad Ecuatoriana de Reumatología\, siga los siguientes pasos para inscribirse: \n\n1. Ingrese aquí sus datos:Nombre *NombreApellidosTítulo abreviado: *Dra. / Dr.Lcda. / Lcdo.MD.Sra.Srita.Sr.Número de cédula / DNI *Celular de contacto *Email de contacto *Respetamos su privacidad. No enviaremos spam a este correo.Ciudad *Especialidad: *Médico especialistaMédico generalEstudiante2. Realice el pago de la inscripción:Valor de la inscripción:Price: $ 120.00Precio especial disponible hasta el 4 de mayo.Realice el pago del valor indicado a través de transferencia o depósito bancario a la siguiente cuenta:\n\nIMPORTANTE: GUARDE UN COMPROBANTE DE ESTA TRANSACCIÓN\n\n\n\nNombre: Sociedad Ecuatoriana de Reumatología\nBanco: Banco Produbanco\nCuenta Corriente: 200 001 1130\nR.U.C.: 179 174 786 0001\n\n3. Suba su comprobante de pago:Suba aquí una foto o captura de su comprobante de pago: *\n	\n		\n		\n			Click or drag a file to this area to upload.		\n\n			\n\n\nEl archivo subido debe ser claro y legible. Archivos permitidos: .JPG\, .PNG\, .PDF¡Haga clic para registrarse!  \n  \n\n¿Tiene dudas o preguntas?\nContáctenos por whatsapp al siguiente número para recibir más información y ayudarlo con el proceso de inscripción: \n099-924-6133\n 
URL:https://www.serecuador.com.ec/evento/curso-emergencias-reumatologia-guayaquil-2025/
LOCATION:Sheraton Guayaquil\, GAES Plaza del Sol\, Avenida\, Joaquín José Orrantia González\, Guayaquil 090513\, Guayaquil\, Guayas\, 090513\, Ecuador
ATTACH;FMTTYPE=image/webp:https://www.serecuador.com.ec/wp-content/uploads/2025/02/curso-emergencias-reumatologia-thumb-900px.webp
ORGANIZER;CN="Sociedad Ecuatoriana de Rematolog%C3%ADa":MAILTO:ser@serecuador.com.ec
END:VEVENT
BEGIN:VEVENT
DTSTART;VALUE=DATE:20230914
DTEND;VALUE=DATE:20230917
DTSTAMP:20260419T132322
CREATED:20230515T181042Z
LAST-MODIFIED:20230515T181053Z
UID:9752-1694649600-1694908799@www.serecuador.com.ec
SUMMARY:XXI Congreso Ecuatoriano de Reumatología 2023
DESCRIPTION:Te invitamos a ser parte de esta jornada científica para actualizarse y conocer a otros profesionales de la Reumatología y áreas afines. Contaremos con un programa completo en el que se expondrán los últimos avances en prevención\, diagnóstico y tratamiento de las enfermedades reumatológicas de la mano de reconocidos expositores nacionales e internacionales. \n\nEscuela de Lupus Ecuador 4ta edición.\nCAR-T en el tratamiento del LES.\nSíndrome Antifosfolipídico: Puesta al día.\nSíndrome de Sjogren: Evaluación y diagnóstico.\nArtritis Reumatoidea: Una puesta al día.\nEvaluando la remisión en la AR: Clínica vs. Imágenes.\nEspondiloartritis: Actualización en Espondoartritis.\nLas Intersticiopatías en las Enfermedades Reumáticas.\nVasculitis de grandes vasos: Nuevos criterios diagnósticos.\nOsteoporosis inducida por corticoides.\nArtrosis: nuevas dianas terapéuticas.\nDolor crónico en pacientes con enfermedades Reumáticas.\nInmunoterapia en cáncer y enfermedad reumática.\nArtritis cristálica: Conversando con los expertos.\nEnfermedades oculares asociadas a enfermedades reumáticas: Evaluación y tratamiento.
URL:https://www.serecuador.com.ec/evento/xxi-congreso-ecuatoriano-de-reumatologia/
LOCATION:Sheraton Guayaquil\, GAES Plaza del Sol\, Avenida\, Joaquín José Orrantia González\, Guayaquil 090513\, Guayaquil\, Guayas\, 090513\, Ecuador
ATTACH;FMTTYPE=image/jpeg:https://www.serecuador.com.ec/wp-content/uploads/2021/07/grupos-de-estudio-ser.jpg
ORGANIZER;CN="Sociedad Ecuatoriana de Rematolog%C3%ADa":MAILTO:ser@serecuador.com.ec
END:VEVENT
END:VCALENDAR